BEGIN:VCALENDAR
VERSION:2.0
PRODID:-//PROgymnasium Bensberg e.V. - ECPv6.15.20//NONSGML v1.0//EN
CALSCALE:GREGORIAN
METHOD:PUBLISH
X-ORIGINAL-URL:https://progymnasium.de
X-WR-CALDESC:Veranstaltungen für PROgymnasium Bensberg e.V.
REFRESH-INTERVAL;VALUE=DURATION:PT1H
X-Robots-Tag:noindex
X-PUBLISHED-TTL:PT1H
BEGIN:VTIMEZONE
TZID:Europe/Berlin
BEGIN:DAYLIGHT
TZOFFSETFROM:+0100
TZOFFSETTO:+0200
TZNAME:CEST
DTSTART:20240331T010000
END:DAYLIGHT
BEGIN:STANDARD
TZOFFSETFROM:+0200
TZOFFSETTO:+0100
TZNAME:CET
DTSTART:20241027T010000
END:STANDARD
BEGIN:DAYLIGHT
TZOFFSETFROM:+0100
TZOFFSETTO:+0200
TZNAME:CEST
DTSTART:20250330T010000
END:DAYLIGHT
BEGIN:STANDARD
TZOFFSETFROM:+0200
TZOFFSETTO:+0100
TZNAME:CET
DTSTART:20251026T010000
END:STANDARD
BEGIN:DAYLIGHT
TZOFFSETFROM:+0100
TZOFFSETTO:+0200
TZNAME:CEST
DTSTART:20260329T010000
END:DAYLIGHT
BEGIN:STANDARD
TZOFFSETFROM:+0200
TZOFFSETTO:+0100
TZNAME:CET
DTSTART:20261025T010000
END:STANDARD
END:VTIMEZONE
BEGIN:VEVENT
DTSTART;TZID=Europe/Berlin:20251001T103000
DTEND;TZID=Europe/Berlin:20251001T120000
DTSTAMP:20260424T125929
CREATED:20250807T083158Z
LAST-MODIFIED:20250807T083158Z
UID:2277-1759314600-1759320000@progymnasium.de
SUMMARY:Digitaler Selbstschutz - Informationsveranstaltung der Verbraucherzentrale
DESCRIPTION:
URL:https://progymnasium.de/event/digitaler-selbstschutz-informationsveranstaltung-der-verbraucherzentrale/
END:VEVENT
BEGIN:VEVENT
DTSTART;TZID=Europe/Berlin:20251009T143000
DTEND;TZID=Europe/Berlin:20251009T160000
DTSTAMP:20260424T125929
CREATED:20251002T094755Z
LAST-MODIFIED:20251002T094755Z
UID:2342-1760020200-1760025600@progymnasium.de
SUMMARY:Informationsveranstaltung Imkerei
DESCRIPTION:
URL:https://progymnasium.de/event/informationsveranstaltung-imkerei/
END:VEVENT
BEGIN:VEVENT
DTSTART;TZID=Europe/Berlin:20251016T100000
DTEND;TZID=Europe/Berlin:20251016T140000
DTSTAMP:20260424T125929
CREATED:20250811T121417Z
LAST-MODIFIED:20250811T121417Z
UID:2286-1760608800-1760623200@progymnasium.de
SUMMARY:Individuelle Pflegeberatung - Ein Angebot der Pflegeberatungsstelle des Rheinischen-Bergischen Kreises
DESCRIPTION:
URL:https://progymnasium.de/event/individuelle-pflegeberatung-ein-angebot-der-pflegeberatungsstelle-des-rheinischen-bergischen-kreises/
END:VEVENT
BEGIN:VEVENT
DTSTART;TZID=Europe/Berlin:20251017T170000
DTEND;TZID=Europe/Berlin:20251017T183000
DTSTAMP:20260424T125929
CREATED:20250821T091940Z
LAST-MODIFIED:20250821T091940Z
UID:2297-1760720400-1760725800@progymnasium.de
SUMMARY:Vernissage - Bilder und Texte der Kurse "Malen" und "Kreatives Schreiben"
DESCRIPTION:
URL:https://progymnasium.de/event/vernissage-bilder-und-texte-der-kurse-malen-und-kreatives-schreiben/
END:VEVENT
BEGIN:VEVENT
DTSTART;TZID=Europe/Berlin:20251030T140000
DTEND;TZID=Europe/Berlin:20251030T170000
DTSTAMP:20260424T125929
CREATED:20250811T121913Z
LAST-MODIFIED:20251002T094234Z
UID:2290-1761832800-1761843600@progymnasium.de
SUMMARY:Workshop: Selbstverteidigung für Seniorinnen
DESCRIPTION:
URL:https://progymnasium.de/event/krav-maga-workshop-selbstverteidigung-fuer-seniorinnen/
END:VEVENT
END:VCALENDAR