BEGIN:VCALENDAR
VERSION:2.0
PRODID:-//PROgymnasium Bensberg e.V. - ECPv6.15.20//NONSGML v1.0//EN
CALSCALE:GREGORIAN
METHOD:PUBLISH
X-WR-CALNAME:PROgymnasium Bensberg e.V.
X-ORIGINAL-URL:https://progymnasium.de
X-WR-CALDESC:Veranstaltungen für PROgymnasium Bensberg e.V.
REFRESH-INTERVAL;VALUE=DURATION:PT1H
X-Robots-Tag:noindex
X-PUBLISHED-TTL:PT1H
BEGIN:VTIMEZONE
TZID:Europe/Berlin
BEGIN:DAYLIGHT
TZOFFSETFROM:+0100
TZOFFSETTO:+0200
TZNAME:CEST
DTSTART:20240331T010000
END:DAYLIGHT
BEGIN:STANDARD
TZOFFSETFROM:+0200
TZOFFSETTO:+0100
TZNAME:CET
DTSTART:20241027T010000
END:STANDARD
BEGIN:DAYLIGHT
TZOFFSETFROM:+0100
TZOFFSETTO:+0200
TZNAME:CEST
DTSTART:20250330T010000
END:DAYLIGHT
BEGIN:STANDARD
TZOFFSETFROM:+0200
TZOFFSETTO:+0100
TZNAME:CET
DTSTART:20251026T010000
END:STANDARD
BEGIN:DAYLIGHT
TZOFFSETFROM:+0100
TZOFFSETTO:+0200
TZNAME:CEST
DTSTART:20260329T010000
END:DAYLIGHT
BEGIN:STANDARD
TZOFFSETFROM:+0200
TZOFFSETTO:+0100
TZNAME:CET
DTSTART:20261025T010000
END:STANDARD
END:VTIMEZONE
BEGIN:VEVENT
DTSTART;TZID=Europe/Berlin:20250901T100000
DTEND;TZID=Europe/Berlin:20250901T113000
DTSTAMP:20260424T144014
CREATED:20250806T133438Z
LAST-MODIFIED:20250806T133438Z
UID:2254-1756720800-1756726200@progymnasium.de
SUMMARY:"Atmen ist mehr als Luftholen" - Schnupperstunde im Rahmen der Seniorenkulturwochen
DESCRIPTION:
URL:https://progymnasium.de/event/atmen-ist-mehr-als-luftholen-schnupperstunde-im-rahmen-der-seniorenkulturwochen/
END:VEVENT
BEGIN:VEVENT
DTSTART;TZID=Europe/Berlin:20250901T160000
DTEND;TZID=Europe/Berlin:20250901T170000
DTSTAMP:20260424T144014
CREATED:20250806T133920Z
LAST-MODIFIED:20250806T133920Z
UID:2262-1756742400-1756746000@progymnasium.de
SUMMARY:Erlebnistanz für Singles und Paare - Veranstaltung im Rahmen der Seniorenkulturwochen
DESCRIPTION:
URL:https://progymnasium.de/event/erlebnistanz-fuer-singles-und-paare-veranstaltung-im-rahmen-der-seniorenkulturwochen/
END:VEVENT
BEGIN:VEVENT
DTSTART;TZID=Europe/Berlin:20250902T110000
DTEND;TZID=Europe/Berlin:20250902T120000
DTSTAMP:20260424T144014
CREATED:20250806T135241Z
LAST-MODIFIED:20250806T135241Z
UID:2264-1756810800-1756814400@progymnasium.de
SUMMARY:Gymnastik für Mobilität und Gesundheit - Schnupperstunde im Rahmen der Seniorenkulturwochen
DESCRIPTION:
URL:https://progymnasium.de/event/gymnastik-fuer-mobilitaet-und-gesundheit-schnupperstunde-im-rahmen-der-seniorenkulturwochen/
END:VEVENT
BEGIN:VEVENT
DTSTART;TZID=Europe/Berlin:20250903T140000
DTEND;TZID=Europe/Berlin:20250903T160000
DTSTAMP:20260424T144014
CREATED:20250811T120730Z
LAST-MODIFIED:20250811T120730Z
UID:2280-1756908000-1756915200@progymnasium.de
SUMMARY:Speed Dating 60+ - Veranstaltung im Rahmen der Seniorenkulturwochen
DESCRIPTION:
URL:https://progymnasium.de/event/speed-dating-60-veranstaltung-im-rahmen-der-seniorenkulturwochen/
END:VEVENT
BEGIN:VEVENT
DTSTART;TZID=Europe/Berlin:20250903T143000
DTEND;TZID=Europe/Berlin:20250903T164500
DTSTAMP:20260424T144014
CREATED:20250807T082545Z
LAST-MODIFIED:20250807T082545Z
UID:2271-1756909800-1756917900@progymnasium.de
SUMMARY:Kreatives Schreiben - Biografie - Schnupperkurs im Rahmen der Seniorenkulturwochen
DESCRIPTION:
URL:https://progymnasium.de/event/kreatives-schreiben-biografie-schnupperkurs-im-rahmen-der-seniorenkulturwochen/
END:VEVENT
BEGIN:VEVENT
DTSTART;TZID=Europe/Berlin:20250904T110000
DTEND;TZID=Europe/Berlin:20250904T123000
DTSTAMP:20260424T144014
CREATED:20250807T083021Z
LAST-MODIFIED:20250807T083021Z
UID:2274-1756983600-1756989000@progymnasium.de
SUMMARY:Denken * Verstehen * Merken - Gedächtnistraining mit Spaß - Schnupperstunde im Rahmen der Seniorenkulturwochen
DESCRIPTION:
URL:https://progymnasium.de/event/denken-verstehen-merken-gedaechtnistraining-mit-spass-schnupperstunde-im-rahmen-der-seniorenkulturwochen/
END:VEVENT
BEGIN:VEVENT
DTSTART;TZID=Europe/Berlin:20250910T143000
DTEND;TZID=Europe/Berlin:20250910T153000
DTSTAMP:20260424T144014
CREATED:20250811T120852Z
LAST-MODIFIED:20250811T120852Z
UID:2283-1757514600-1757518200@progymnasium.de
SUMMARY:Märchen für Erwachsene - Veranstaltung im Rahmen der Seniorenkulturwochen
DESCRIPTION:
URL:https://progymnasium.de/event/maerchen-fuer-erwachsene-veranstaltung-im-rahmen-der-seniorenkulturwochen/
END:VEVENT
BEGIN:VEVENT
DTSTART;TZID=Europe/Berlin:20250923T140000
DTEND;TZID=Europe/Berlin:20250923T160000
DTSTAMP:20260424T144014
CREATED:20250821T111153Z
LAST-MODIFIED:20250821T111153Z
UID:2303-1758636000-1758643200@progymnasium.de
SUMMARY:Neue Wege der Informationsbeschaffung - Von Google zur KI
DESCRIPTION:
URL:https://progymnasium.de/event/neue-wege-der-informationsbeschaffung-von-google-zur-ki/
END:VEVENT
BEGIN:VEVENT
DTSTART;TZID=Europe/Berlin:20250925T140000
DTEND;TZID=Europe/Berlin:20250925T153000
DTSTAMP:20260424T144014
CREATED:20250821T091718Z
LAST-MODIFIED:20250821T091718Z
UID:2294-1758808800-1758814200@progymnasium.de
SUMMARY:Informationsveranstaltung MiKibU e.V. (Migrantenkinder bekommen Unterstützung)
DESCRIPTION:
URL:https://progymnasium.de/event/informationsveranstaltung-mikibu-e-v-migrantenkinder-bekommen-unterstuetzung/
END:VEVENT
END:VCALENDAR