BEGIN:VCALENDAR
VERSION:2.0
PRODID:-//PROgymnasium Bensberg e.V. - ECPv6.15.20//NONSGML v1.0//EN
CALSCALE:GREGORIAN
METHOD:PUBLISH
X-ORIGINAL-URL:https://progymnasium.de
X-WR-CALDESC:Veranstaltungen für PROgymnasium Bensberg e.V.
REFRESH-INTERVAL;VALUE=DURATION:PT1H
X-Robots-Tag:noindex
X-PUBLISHED-TTL:PT1H
BEGIN:VTIMEZONE
TZID:Europe/Berlin
BEGIN:DAYLIGHT
TZOFFSETFROM:+0100
TZOFFSETTO:+0200
TZNAME:CEST
DTSTART:20240331T010000
END:DAYLIGHT
BEGIN:STANDARD
TZOFFSETFROM:+0200
TZOFFSETTO:+0100
TZNAME:CET
DTSTART:20241027T010000
END:STANDARD
BEGIN:DAYLIGHT
TZOFFSETFROM:+0100
TZOFFSETTO:+0200
TZNAME:CEST
DTSTART:20250330T010000
END:DAYLIGHT
BEGIN:STANDARD
TZOFFSETFROM:+0200
TZOFFSETTO:+0100
TZNAME:CET
DTSTART:20251026T010000
END:STANDARD
BEGIN:DAYLIGHT
TZOFFSETFROM:+0100
TZOFFSETTO:+0200
TZNAME:CEST
DTSTART:20260329T010000
END:DAYLIGHT
BEGIN:STANDARD
TZOFFSETFROM:+0200
TZOFFSETTO:+0100
TZNAME:CET
DTSTART:20261025T010000
END:STANDARD
END:VTIMEZONE
BEGIN:VEVENT
DTSTART;TZID=Europe/Berlin:20250806T143000
DTEND;TZID=Europe/Berlin:20250806T153000
DTSTAMP:20260424T160805
CREATED:20250612T141747Z
LAST-MODIFIED:20250730T124355Z
UID:2136-1754490600-1754494200@progymnasium.de
SUMMARY:Märchenstunde für Großeltern mit (oder auch ohne) Enkel
DESCRIPTION:
URL:https://progymnasium.de/event/maerchenstunde-fuer-grosseltern-mit-oder-auch-ohne-enkel/
END:VEVENT
BEGIN:VEVENT
DTSTART;TZID=Europe/Berlin:20250813T140000
DTEND;TZID=Europe/Berlin:20250813T160000
DTSTAMP:20260424T160805
CREATED:20250730T123710Z
LAST-MODIFIED:20250730T124243Z
UID:2239-1755093600-1755100800@progymnasium.de
SUMMARY:Informationsveranstaltung zum Senior Experten Service (SES)
DESCRIPTION:
URL:https://progymnasium.de/event/informationsveranstaltung-zum-senior-experten-service-ses/
END:VEVENT
BEGIN:VEVENT
DTSTART;TZID=Europe/Berlin:20250821T140000
DTEND;TZID=Europe/Berlin:20250821T153000
DTSTAMP:20260424T160805
CREATED:20250730T124202Z
LAST-MODIFIED:20250730T124202Z
UID:2241-1755784800-1755790200@progymnasium.de
SUMMARY:Informationsveranstaltung zum Thema Imkerei
DESCRIPTION:
URL:https://progymnasium.de/event/informationsveranstaltung-zum-thema-imkerei/
END:VEVENT
END:VCALENDAR